BEGIN:VCALENDAR
VERSION:2.0
PRODID:-//CLSAZ - ECPv6.15.17//NONSGML v1.0//EN
CALSCALE:GREGORIAN
METHOD:PUBLISH
X-ORIGINAL-URL:https://clsaz.org
X-WR-CALDESC:Events for CLSAZ
REFRESH-INTERVAL;VALUE=DURATION:PT1H
X-Robots-Tag:noindex
X-PUBLISHED-TTL:PT1H
BEGIN:VTIMEZONE
TZID:America/Phoenix
BEGIN:STANDARD
TZOFFSETFROM:-0700
TZOFFSETTO:-0700
TZNAME:MST
DTSTART:20190101T000000
END:STANDARD
END:VTIMEZONE
BEGIN:VEVENT
DTSTART;TZID=America/Phoenix:20210528T120000
DTEND;TZID=America/Phoenix:20210528T130000
DTSTAMP:20260423T072205
CREATED:20210406T124558Z
LAST-MODIFIED:20210406T124558Z
UID:6067-1622203200-1622206800@clsaz.org
SUMMARY:Representing Yourself in Hearings before the Department of Economic Security: Nutrition\, Medical and Cash Assistance Appeals
DESCRIPTION:May 28\, 2021 CLS Webinar\n\nCOMMUNITY LEGAL SERVICES\nLunchtime Law Lessons: Legal Rights\, Protective Orders\, Safety Planning & Resources for Victims of Sexual Violence.”\nPresenter: Health and Economic Security \n  \nFriday\, May 28\, 2021 | 12-1 PM\nZoom Virtual Workshop\nJoin CLS for a live\, no-cost\, virtual workshop.  Question & Answer session included for nonspecific case-related law questions. \n  \nSend us your questions ahead of time at zoominar@clsaz.org \n  \nIF YOU HAVE QUESTIONS ABOUT A SPECIFIC SITUATION OR PERSONAL ISSUE\, PLEASE CALL OUR OFFICE AT 602-258-3434 \n  \nPre-registration is required. \nRegister Now  \n  \n 
URL:https://clsaz.org/event/representing-yourself-in-hearings-before-the-department-of-economic-security-nutrition-medical-and-cash-assistance-appeals/
LOCATION:Online
CATEGORIES:Health and Economic Security
END:VEVENT
BEGIN:VEVENT
DTSTART;TZID=America/Phoenix:20201120T050000
DTEND;TZID=America/Phoenix:20201120T060000
DTSTAMP:20260423T072205
CREATED:20201104T202447Z
LAST-MODIFIED:20201104T202542Z
UID:5799-1605848400-1605852000@clsaz.org
SUMMARY:Lunchtime Law Lessons:  What Are Your Options if You Receive a Nutrition Assistance Overpayment
DESCRIPTION:COMMUNITY LEGAL SERVICES\nLunchtime Law Lessons:  What Are Your Options if You Receive a Nutrition Assistance Overpayment – CLS Health and Economic Stability Unit Staff \n  \nFriday\, November 20\, 2020 | 12-1 PM \nZoom Virtual Workshop Join CLS for a live\, no-cost\, virtual workshop.   \nQ & A session for nonspecific case-related law questions. Pre-registration is required. \nt \nPre-registration is required. \nRegister Now https://us02web.zoom.us/webinar/register/WN_RpB2x2nJQkey1HtU7IhXpA \n  \nSend us your questions ahead of time at zoominar@clsaz.org \nIF YOU HAVE QUESTIONS ABOUT A SPECIFIC SITUATION OR PERSONAL ISSUE\, PLEASE CALL OUR OFFICE AT 602-258-3434
URL:https://clsaz.org/event/5799/
LOCATION:Online
CATEGORIES:Health and Economic Security
END:VEVENT
BEGIN:VEVENT
DTSTART;TZID=America/Phoenix:20200717T050000
DTEND;TZID=America/Phoenix:20200717T060000
DTSTAMP:20260423T072205
CREATED:20200623T002614Z
LAST-MODIFIED:20200623T002614Z
UID:5556-1594962000-1594965600@clsaz.org
SUMMARY:Lunchtime Law Lesson: An Overview of Arizona’s Medicaid/Health Care System (AHCCCS)
DESCRIPTION:COMMUNITY LEGAL SERVICES\nLunchtime Law Lesson: An Overview of Arizona’s Medicaid/Health Care System (AHCCCS)\n– Presenter: Dina Norwood\n  \nFriday\, July 17\, 2020| 12-1 PM \nZoom Virtual Workshop \nPre-registration is required. \nRegister Now \n  \nJoin CLS for a live\, no-cost\, virtual workshop.  Question & Answer session included for nonspecific case-related law questions. \n  \nSend us your questions ahead of time at zoominar@clsaz.org \n  \nIF YOU HAVE QUESTIONS ABOUT A SPECIFIC SITUATION OR PERSONAL ISSUE\, PLEASE CALL OUR OFFICE AT 602-258-3434 \n 
URL:https://clsaz.org/event/lunchtime-law-lesson-an-overview-of-arizonas-medicaid-health-care-system-ahcccs/
LOCATION:Online
CATEGORIES:Health and Economic Security
END:VEVENT
BEGIN:VEVENT
DTSTART;TZID=America/Phoenix:20200423T050000
DTEND;TZID=America/Phoenix:20200423T060000
DTSTAMP:20260423T072205
CREATED:20200416T233944Z
LAST-MODIFIED:20200416T234407Z
UID:5373-1587618000-1587621600@clsaz.org
SUMMARY:Lunchtime Law Series: SNAP and Cash Assistance Amid COVID-19
DESCRIPTION:COMMUNITY LEGAL SERVICES  \nLunchtime Law Series: SNAP and Cash Assistance Amid COVID-19  \nPresented by Ellen Katz\, William E. Morris Institute for Justice\, Geraldine Miranda\, CLS and Dina Norwood\, CLS \n  \nVirtual Workshop (Pre-registration is required) \nRegister Now \n  \nQuestion & Answer session included for nonspecific case-related law questions.\nSend us your questions ahead of time at zoominar@clsaz.org \n  \nIF YOU HAVE QUESTIONS ABOUT A SPECIFIC SITUATION OR PERSONAL ISSUE\, PLEASE CALL OUR OFFICE AT 602-258-3434
URL:https://clsaz.org/event/snap-and-cash-assistance-amid-covid-19/
LOCATION:Online
CATEGORIES:Health and Economic Security
END:VEVENT
BEGIN:VEVENT
DTSTART;TZID=America/Phoenix:20200214T050000
DTEND;TZID=America/Phoenix:20200214T080000
DTSTAMP:20260423T072205
CREATED:20200204T183358Z
LAST-MODIFIED:20200204T183358Z
UID:5144-1581656400-1581667200@clsaz.org
SUMMARY:HES (Social Security/SNAP/AHCCCS)
DESCRIPTION:12:00 pm – 3:00 pm – HES (Social Security/SNAP/AHCCCS)\nMesaCAN:  635 E Broadway Rd\, Mesa\, AZ 85204
URL:https://clsaz.org/event/hes-social-security-snap-ahcccs/
LOCATION:MesaCAN\, 635 E Broadway Rd.\, Mesa\, AZ\, 85204\, United States
CATEGORIES:Health and Economic Security
END:VEVENT
END:VCALENDAR