BEGIN:VCALENDAR
VERSION:2.0
PRODID:-//CLSAZ - ECPv6.15.17//NONSGML v1.0//EN
CALSCALE:GREGORIAN
METHOD:PUBLISH
X-WR-CALNAME:CLSAZ
X-ORIGINAL-URL:https://clsaz.org
X-WR-CALDESC:Events for CLSAZ
REFRESH-INTERVAL;VALUE=DURATION:PT1H
X-Robots-Tag:noindex
X-PUBLISHED-TTL:PT1H
BEGIN:VTIMEZONE
TZID:America/Phoenix
BEGIN:STANDARD
TZOFFSETFROM:-0700
TZOFFSETTO:-0700
TZNAME:MST
DTSTART:20200101T000000
END:STANDARD
END:VTIMEZONE
BEGIN:VEVENT
DTSTART;TZID=America/Phoenix:20210901T120000
DTEND;TZID=America/Phoenix:20210901T130000
DTSTAMP:20260421T102504
CREATED:20210901T095920Z
LAST-MODIFIED:20210901T095948Z
UID:6225-1630497600-1630501200@clsaz.org
SUMMARY:The CDC Moratorium has Ended:  Find Out About Tenant Rights And Options
DESCRIPTION:September 1\, 2021 CLS Webinar\nThe CDC Moratorium has Ended:  Find Out About Tenant Rights And Options \n  \nWednesday\, September 1\, 2021 | 12-1 PM\nZoom Virtual Workshop\nJoin CLS for a live\, no-cost\, virtual workshop about tenants rights and options following the end of the CDC eviction moratorium.  \nQuestion & Answer session included for nonspecific case-related law questions. \n  \n  \nIF YOU HAVE QUESTIONS ABOUT A SPECIFIC SITUATION OR PERSONAL ISSUE\, PLEASE CALL OUR OFFICE AT 602-258-3434 \n  \nPre-registration is required. \nRegister Now  \n  \n 
URL:https://clsaz.org/event/the-cdc-moratorium-has-ended-find-out-about-tenant-rights-and-options/
LOCATION:Online
CATEGORIES:Housing Law
END:VEVENT
END:VCALENDAR