BEGIN:VCALENDAR
VERSION:2.0
PRODID:-//CLSAZ - ECPv6.15.17//NONSGML v1.0//EN
CALSCALE:GREGORIAN
METHOD:PUBLISH
X-ORIGINAL-URL:https://clsaz.org
X-WR-CALDESC:Events for CLSAZ
REFRESH-INTERVAL;VALUE=DURATION:PT1H
X-Robots-Tag:noindex
X-PUBLISHED-TTL:PT1H
BEGIN:VTIMEZONE
TZID:America/Phoenix
BEGIN:STANDARD
TZOFFSETFROM:-0700
TZOFFSETTO:-0700
TZNAME:MST
DTSTART:20190101T000000
END:STANDARD
END:VTIMEZONE
BEGIN:VEVENT
DTSTART;TZID=America/Phoenix:20210901T120000
DTEND;TZID=America/Phoenix:20210901T130000
DTSTAMP:20260423T022428
CREATED:20210901T095920Z
LAST-MODIFIED:20210901T095948Z
UID:6225-1630497600-1630501200@clsaz.org
SUMMARY:The CDC Moratorium has Ended:  Find Out About Tenant Rights And Options
DESCRIPTION:September 1\, 2021 CLS Webinar\nThe CDC Moratorium has Ended:  Find Out About Tenant Rights And Options \n  \nWednesday\, September 1\, 2021 | 12-1 PM\nZoom Virtual Workshop\nJoin CLS for a live\, no-cost\, virtual workshop about tenants rights and options following the end of the CDC eviction moratorium.  \nQuestion & Answer session included for nonspecific case-related law questions. \n  \n  \nIF YOU HAVE QUESTIONS ABOUT A SPECIFIC SITUATION OR PERSONAL ISSUE\, PLEASE CALL OUR OFFICE AT 602-258-3434 \n  \nPre-registration is required. \nRegister Now  \n  \n 
URL:https://clsaz.org/event/the-cdc-moratorium-has-ended-find-out-about-tenant-rights-and-options/
LOCATION:Online
CATEGORIES:Housing Law
END:VEVENT
BEGIN:VEVENT
DTSTART;TZID=America/Phoenix:20201106T050000
DTEND;TZID=America/Phoenix:20201106T060000
DTSTAMP:20260423T022428
CREATED:20201104T192536Z
LAST-MODIFIED:20201104T200813Z
UID:5792-1604638800-1604642400@clsaz.org
SUMMARY:Lunchtime Law Lessons: Housing Law
DESCRIPTION:  \n \nCOMMUNITY LEGAL SERVICES\nLunchtime Law Lessons: Housing Law – Jeff Katz\, CLS Managing Attorney Housing Unit \nFriday\, November 6\, 2020 | 12-1 PM \nZoom Virtual Workshop \nPre-registration is required. \nRegister Now https://us02web.zoom.us/webinar/register/WN_RpB2x2nJQkey1HtU7IhXpA
URL:https://clsaz.org/event/lunchtime-law-lessons-housing-law/
LOCATION:Online
CATEGORIES:Housing Law
END:VEVENT
BEGIN:VEVENT
DTSTART;TZID=America/Phoenix:20200821T050000
DTEND;TZID=America/Phoenix:20200821T060000
DTSTAMP:20260423T022428
CREATED:20200803T190521Z
LAST-MODIFIED:20200803T190521Z
UID:5670-1597986000-1597989600@clsaz.org
SUMMARY:Lunchtime Law Lesson:  Understanding the Governor’s Executive Order on Evictions (en Español)
DESCRIPTION:COMMUNITY LEGAL SERVICES\nLunchtime Law Lesson: Understanding the Governor’s Executive Order on Evictions (en Español) \n Maribel Schaffer\, CLS Paralegal Advocate Housing Unit\, and Pam Bridge\, CLS Director of Advocacy and Litigation \n  \nFriday\, August 21\, 2020 | 12-1 PM \nZoom Virtual Workshop \nPre-registration is required. \nRegister Now \n  \nJoin CLS for a live\, no-cost\, virtual workshop.  Question & Answer session included for nonspecific case-related law questions. \nSend us your questions ahead of time at zoominar@clsaz.org \nIF YOU HAVE QUESTIONS ABOUT A SPECIFIC SITUATION OR PERSONAL ISSUE\, PLEASE CALL OUR OFFICE AT 602-258-3434
URL:https://clsaz.org/event/lunchtime-law-lesson-understanding-the-governors-executive-order-on-evictions-en-espanol/
LOCATION:Online
CATEGORIES:Housing Law
END:VEVENT
BEGIN:VEVENT
DTSTART;TZID=America/Phoenix:20200814T050000
DTEND;TZID=America/Phoenix:20200814T060000
DTSTAMP:20260423T022428
CREATED:20200803T184602Z
LAST-MODIFIED:20200803T190811Z
UID:5667-1597381200-1597384800@clsaz.org
SUMMARY:Lunchtime Law Lesson: HOA Overview
DESCRIPTION:COMMUNITY LEGAL SERVICES\nLunchtime Law Lesson: HOA Overview\nJeff Katz\, CLS Managing Attorney \n  \nFriday\, August 14\, 2020 | 12-1 PM \nZoom Virtual Workshop \nPre-registration is required. \nRegister Now \n  \nJoin CLS for a live\, no-cost\, virtual workshop.  Question & Answer session included for nonspecific case-related law questions. \nSend us your questions ahead of time at zoominar@clsaz.org \n  \nIF YOU HAVE QUESTIONS ABOUT A SPECIFIC SITUATION OR PERSONAL ISSUE\, PLEASE CALL OUR OFFICE AT 602-258-3434
URL:https://clsaz.org/event/lunchtime-law-lesson-hoa-overview/
LOCATION:Online
CATEGORIES:Housing Law
END:VEVENT
BEGIN:VEVENT
DTSTART;TZID=America/Phoenix:20200807T050000
DTEND;TZID=America/Phoenix:20200807T060000
DTSTAMP:20260423T022428
CREATED:20200803T183110Z
LAST-MODIFIED:20200803T190712Z
UID:5665-1596776400-1596780000@clsaz.org
SUMMARY:Lunchtime Law Lesson: Fair Housing Overview
DESCRIPTION:  \nCOMMUNITY LEGAL SERVICES\nLunchtime Law Lesson: Fair Housing Overview\nStan Silas\, CLS Attorney\, Housing Unit \n  \nFriday\, August 7\, 2020 | 12-1 PM \nZoom Virtual Workshop \nPre-registration is required. \nRegister Now \n  \nJoin CLS for a live\, no-cost\, virtual workshop.  Question & Answer session included for nonspecific case-related law questions. \nSend us your questions ahead of time at zoominar@clsaz.org \n  \nIF YOU HAVE QUESTIONS ABOUT A SPECIFIC SITUATION OR PERSONAL ISSUE\, PLEASE CALL OUR OFFICE AT 602-258-3434
URL:https://clsaz.org/event/fair-housing-overview/
LOCATION:Online
CATEGORIES:Housing Law
END:VEVENT
BEGIN:VEVENT
DTSTART;TZID=America/Phoenix:20200626T050000
DTEND;TZID=America/Phoenix:20200626T060000
DTSTAMP:20260423T022428
CREATED:20200622T234932Z
LAST-MODIFIED:20200622T235229Z
UID:5549-1593147600-1593151200@clsaz.org
SUMMARY:Lunchtime Law Lesson:  Housing Law
DESCRIPTION:COMMUNITY LEGAL SERVICES\nLunchtime Law Lesson:  Housing Law\nJeff Katz \n  \nFriday\, June 26\, 2020| 12-1 PM \nZoom Virtual Workshop \nPre-registration is required. \nRegister Now \n  \nJoin CLS for a live\, no-cost\, virtual workshop.  Question & Answer session included for nonspecific case-related law questions. \n  \nSend us your questions ahead of time at zoominar@clsaz.org \n  \nIF YOU HAVE QUESTIONS ABOUT A SPECIFIC SITUATION OR PERSONAL ISSUE\, PLEASE CALL OUR OFFICE AT 602-258-3434 \n  \n 
URL:https://clsaz.org/event/lunchtime-law-lesson-housing-law/
LOCATION:Online
CATEGORIES:Housing Law
END:VEVENT
BEGIN:VEVENT
DTSTART;TZID=America/Phoenix:20200605T050000
DTEND;TZID=America/Phoenix:20200605T060000
DTSTAMP:20260423T022428
CREATED:20200530T172631Z
LAST-MODIFIED:20200530T172631Z
UID:5511-1591333200-1591336800@clsaz.org
SUMMARY:Lunchtime Law Lessons: Housing Issues Amid COVID-19
DESCRIPTION:COMMUNITY LEGAL SERVICES\nLunchtime Law Lesson: Housing Issues Amid COVID-19\nCLS Housing Unit \nFriday\, June 5\, 2020| 12-1 PM \nZoom Virtual Workshop \nPre-registration is required. \nRegister Now \n  \nJoin CLS for a live\, no-cost\, virtual workshop.  Question & Answer session included for nonspecific case-related law questions. \nSend us your questions ahead of time at zoominar@clsaz.org \nIF YOU HAVE QUESTIONS ABOUT A SPECIFIC SITUATION OR PERSONAL ISSUE\, PLEASE CALL OUR OFFICE AT 602-258-3434
URL:https://clsaz.org/event/lunchtime-law-lessons-housing-issues-during-covid-19/
LOCATION:Online
CATEGORIES:Housing Law
END:VEVENT
BEGIN:VEVENT
DTSTART;TZID=America/Phoenix:20200522T050000
DTEND;TZID=America/Phoenix:20200522T060000
DTSTAMP:20260423T022428
CREATED:20200507T200027Z
LAST-MODIFIED:20200507T200027Z
UID:5458-1590123600-1590127200@clsaz.org
SUMMARY:Lunchtime Law Lesson: Air Conditioning and Habitability Issues Amid COVID-19
DESCRIPTION:  \nCOMMUNITY LEGAL SERVICES\nLunchtime Law Lesson: Air Conditioning and Habitability Issues Amid COVID-19\nCLS Housing Unit \n  \nFriday\, May 22\, 2020| 12-1 PM \nZoom Virtual Workshop \nPre-registration is required. \nRegister Now \n  \n  \nJoin CLS for a live\, no-cost\, virtual workshop.  Question & Answer session included for nonspecific case-related law questions. \nSend us your questions ahead of time at zoominar@clsaz.org \n  \nIF YOU HAVE QUESTIONS ABOUT A SPECIFIC SITUATION OR PERSONAL ISSUE\, PLEASE CALL OUR OFFICE AT 602-258-3434
URL:https://clsaz.org/event/lunchtime-law-lesson-air-conditioning-and-habitability-issues-amid-covid-19/
LOCATION:Online
CATEGORIES:Housing Law
END:VEVENT
BEGIN:VEVENT
DTSTART;TZID=America/Phoenix:20200515T050000
DTEND;TZID=America/Phoenix:20200515T060000
DTSTAMP:20260423T022428
CREATED:20200507T194343Z
LAST-MODIFIED:20200507T194745Z
UID:5452-1589518800-1589522400@clsaz.org
SUMMARY:Lunchtime Law Lesson: Fair Housing Amid COVID-19
DESCRIPTION:COMMUNITY LEGAL SERVICES\nLunchtime Law Lesson: Fair Housing Amid COVID-19\nCheri Horbacz\, Stan Silas\, CLS Housing Unit \n  \nFriday\, May 15\, 2020| 12-1 PM \nZoom Virtual Workshop \nPre-registration is required. \nRegister Now \n  \nJoin CLS for a live\, no-cost\, virtual workshop.  Question & Answer session included for nonspecific case-related law questions. \n  \nSend us your questions ahead of time at zoominar@clsaz.org \n  \nIF YOU HAVE QUESTIONS ABOUT A SPECIFIC SITUATION OR PERSONAL ISSUE\, PLEASE CALL OUR OFFICE AT 602-258-3434 \n  \n 
URL:https://clsaz.org/event/lunchtime-law-lesson-fair-housing-amid-covid-19/
LOCATION:Online
CATEGORIES:Housing Law
END:VEVENT
BEGIN:VEVENT
DTSTART;TZID=America/Phoenix:20200508T050000
DTEND;TZID=America/Phoenix:20200508T060000
DTSTAMP:20260423T022428
CREATED:20200429T182932Z
LAST-MODIFIED:20200504T205609Z
UID:5426-1588914000-1588917600@clsaz.org
SUMMARY:Lunchtime Law Lesson: Clarifying the Court's Guidance about Evictions during COVID 19
DESCRIPTION:COMMUNITY LEGAL SERVICES\nLunchtime Law Lesson: Clarifying the Court’s Guidance about Evictions during COVID 19\nJeff Katz\, CLS Managing Attorney Housing Unit and Pamela Bridge\, Director of Litigation and Advocacy \n  \nFriday\, May 8\, 2020| 12-1 PM \nZoom Virtual Workshop \nPre-registration is required. \nRegister Now \n  \nJoin CLS for a live\, no-cost\, virtual workshop.  Question & Answer session included for nonspecific case-related law questions. \nSend us your questions ahead of time at zoominar@clsaz.org \n  \nIF YOU HAVE QUESTIONS ABOUT A SPECIFIC SITUATION OR PERSONAL ISSUE\, PLEASE CALL OUR OFFICE AT 602-258-3434
URL:https://clsaz.org/event/lunchtime-law-lesson-housing-and-landlord-tenant-issues-amid-covid-19/
LOCATION:Online
CATEGORIES:Housing Law
END:VEVENT
BEGIN:VEVENT
DTSTART;TZID=America/Phoenix:20200501T050000
DTEND;TZID=America/Phoenix:20200501T060000
DTSTAMP:20260423T022428
CREATED:20200424T190955Z
LAST-MODIFIED:20200424T191101Z
UID:5397-1588309200-1588312800@clsaz.org
SUMMARY:Lunchtime Law Lesson: Mortgages and Bankruptcy Amid COVID-19
DESCRIPTION:COMMUNITY LEGAL SERVICES\nLunchtime Law Lesson: Mortgages and Bankruptcy Amid COVID-19\nJeff Katz\, CLS Managing Attorney Housing Unit \n  \nFriday\, May 1\, 2020| 12-1 PM \nZoom Virtual Workshop \nPre-registration is required. \nRegister Now \n  \nJoin CLS for a live\, no-cost\, virtual workshop.  Question & Answer session included for nonspecific case-related law questions. \nSend us your questions ahead of time at zoominar@clsaz.org \n  \nIF YOU HAVE QUESTIONS ABOUT A SPECIFIC SITUATION OR PERSONAL ISSUE\, PLEASE CALL OUR OFFICE AT 602-258-3434 \n 
URL:https://clsaz.org/event/lunchtime-law-lesson-mortgages-and-bankruptcy-amid-covid-19/
LOCATION:Online
CATEGORIES:Housing Law
END:VEVENT
BEGIN:VEVENT
DTSTART;TZID=America/Phoenix:20200424T050000
DTEND;TZID=America/Phoenix:20200424T060000
DTSTAMP:20260423T022428
CREATED:20200417T001435Z
LAST-MODIFIED:20200417T022112Z
UID:5375-1587704400-1587708000@clsaz.org
SUMMARY:Lunchtime Law Lesson: Landlord and Tenant Issues Amid COVID-19
DESCRIPTION:  \nCOMMUNITY LEGAL SERVICES\nLunchtime Law Lesson: Landlord and Tenant Issues Amid COVID-19\nFor tenants and homeowners at risk of losing their home \nFriday\, April 24 | 12-1 PM \n  \nZoom Virtual Workshop \nPre-registration is required \nRegister Now \n  \n  \n  \n  \nQuestion & Answer session included for nonspecific case-related law questions. \nSend us your questions ahead of time at zoominar@clsaz.org \n  \nJOIN LEGAL STAFF FROM CLS FOR WEEKLY LIVE NO-COST WORKSHOPS! \nIF YOU HAVE QUESTIONS ABOUT A SPECIFIC SITUATION OR PERSONAL ISSUE\, PLEASE CALL OUR OFFICE AT 602-258-3434
URL:https://clsaz.org/event/cls-lunchtime-virtual-workshop-housing-law-covid-19/
LOCATION:Online
CATEGORIES:Housing Law
END:VEVENT
BEGIN:VEVENT
DTSTART;TZID=America/Phoenix:20200417T050000
DTEND;TZID=America/Phoenix:20200417T060000
DTSTAMP:20260423T022428
CREATED:20200416T025354Z
LAST-MODIFIED:20200416T025610Z
UID:5354-1587099600-1587103200@clsaz.org
SUMMARY:CLS Lunchtime Law Lesson: COVID-19 and Arizona Housing Law
DESCRIPTION:COMMUNITY LEGAL SERVICES\nLunchtime Law Lesson: COVID-19 and Arizona Housing Law\nFor tenants and homeowners at risk of losing their home \nEvery Friday | 12-1 PM \n  \nZoom Virtual Workshop  \nPre-registration is required \nRegister Now \n  \nScan the code below to register with your mobile device: \n \n  \nQuestion & Answer session included for nonspecific case-related law questions. \nSend us your questions ahead of time at zoominar@clsaz.org \n  \nJOIN LEGAL STAFF FROM CLS FOR WEEKLY LIVE NO-COST WORKSHOPS! Learn about housing topics related to COVID-19. \nIF YOU HAVE QUESTIONS ABOUT A SPECIFIC SITUATION OR PERSONAL ISSUE\, PLEASE CALL OUR OFFICE AT 602-258-3434
URL:https://clsaz.org/event/cls-lunchtime-law-lesson-covid-19-and-arizona-housing-law/
LOCATION:Online
CATEGORIES:Housing Law
ATTACH;FMTTYPE=image/png:https://clsaz.org/wp-content/uploads/2020/04/zoom-workshop-housing-covid-19-1.png
END:VEVENT
BEGIN:VEVENT
DTSTART;TZID=America/Phoenix:20200228T020000
DTEND;TZID=America/Phoenix:20200228T050000
DTSTAMP:20260423T022428
CREATED:20200204T184802Z
LAST-MODIFIED:20200204T184802Z
UID:5154-1582855200-1582866000@clsaz.org
SUMMARY:2-28-2020: Housing Law (Landlord/Tenant)
DESCRIPTION:9:00am – 12:00pm – Housing Law (Landlord/Tenant)\nMesaCAN:  635 E Broadway Rd\, Mesa\, AZ 85204
URL:https://clsaz.org/event/2-28-2020-housing-law-landlord-tenant/
LOCATION:MesaCAN\, 635 E Broadway Rd.\, Mesa\, AZ\, 85204\, United States
CATEGORIES:Housing Law
END:VEVENT
BEGIN:VEVENT
DTSTART;TZID=America/Phoenix:20200221T020000
DTEND;TZID=America/Phoenix:20200221T050000
DTSTAMP:20260423T022428
CREATED:20200204T183734Z
LAST-MODIFIED:20200204T184029Z
UID:5146-1582250400-1582261200@clsaz.org
SUMMARY:2-21-2020: Housing Law (Landlord/Tenant)
DESCRIPTION:9:00am – 12:00pm – Housing Law (Landlord/Tenant)\nMesaCAN:  635 E Broadway Rd\, Mesa\, AZ 85204
URL:https://clsaz.org/event/2-21-2020-housing-law-landlord-tenant/
LOCATION:MesaCAN\, 635 E Broadway Rd.\, Mesa\, AZ\, 85204\, United States
CATEGORIES:Housing Law
END:VEVENT
BEGIN:VEVENT
DTSTART;TZID=America/Phoenix:20200214T020000
DTEND;TZID=America/Phoenix:20200214T050000
DTSTAMP:20260423T022428
CREATED:20200204T182043Z
LAST-MODIFIED:20200204T182235Z
UID:5138-1581645600-1581656400@clsaz.org
SUMMARY:Housing Law (Landlord/Tenant) 2-14
DESCRIPTION:9:00am – 12:00pm – Housing Law (Landlord/Tenant)\nMesaCAN:  635 E Broadway Rd\, Mesa\, AZ 85204
URL:https://clsaz.org/event/housing-law-landlord-tenant-2-14/
LOCATION:MesaCAN\, 635 E Broadway Rd.\, Mesa\, AZ\, 85204\, United States
CATEGORIES:Housing Law
END:VEVENT
BEGIN:VEVENT
DTSTART;TZID=America/Phoenix:20200207T020000
DTEND;TZID=America/Phoenix:20200207T050000
DTSTAMP:20260423T022428
CREATED:20200204T180528Z
LAST-MODIFIED:20200204T180616Z
UID:5133-1581040800-1581051600@clsaz.org
SUMMARY:Housing Law (Landlord/Tenant)
DESCRIPTION:
URL:https://clsaz.org/event/housing-law-landlord-tenant/
LOCATION:MesaCAN\, 635 E Broadway Rd.\, Mesa\, AZ\, 85204\, United States
CATEGORIES:Housing Law
END:VEVENT
BEGIN:VEVENT
DTSTART;TZID=America/Phoenix:20200206T130000
DTEND;TZID=America/Phoenix:20200206T160000
DTSTAMP:20260423T022428
CREATED:20200204T192358Z
LAST-MODIFIED:20200204T192358Z
UID:5164-1580994000-1581004800@clsaz.org
SUMMARY:2-6-2020: Housing Law (Landlord/Tenant\, Foreclosure\, and Fair Housing)
DESCRIPTION:1:00pm – 4:00pm: Housing Law (Landlord/Tenant\, Foreclosure\, and Fair Housing)\nPaiute Neighborhood Center:  6535 E Osborn Rd\, Scottsdale\, AZ 85251
URL:https://clsaz.org/event/2-6-2020-housing-law-landlord-tenant-foreclosure-and-fair-housing/
LOCATION:Paiute Neighborhood Center\, 6535 E Osborn Rd\, Scottsdale\, AZ\, 85251\, United States
CATEGORIES:Housing Law
END:VEVENT
END:VCALENDAR