BEGIN:VCALENDAR
VERSION:2.0
PRODID:-//CLSAZ - ECPv6.15.17//NONSGML v1.0//EN
CALSCALE:GREGORIAN
METHOD:PUBLISH
X-ORIGINAL-URL:https://clsaz.org
X-WR-CALDESC:Events for CLSAZ
REFRESH-INTERVAL;VALUE=DURATION:PT1H
X-Robots-Tag:noindex
X-PUBLISHED-TTL:PT1H
BEGIN:VTIMEZONE
TZID:America/Phoenix
BEGIN:STANDARD
TZOFFSETFROM:-0700
TZOFFSETTO:-0700
TZNAME:MST
DTSTART:20230101T000000
END:STANDARD
END:VTIMEZONE
BEGIN:VEVENT
DTSTART;TZID=America/Phoenix:20240111T140000
DTEND;TZID=America/Phoenix:20240111T160000
DTSTAMP:20260419T091557
CREATED:20230926T074920Z
LAST-MODIFIED:20230926T075008Z
UID:7111-1704981600-1704988800@clsaz.org
SUMMARY:Set Aside and Expungement Clinic
DESCRIPTION:Join this free in-person legal clinic if you have an Arizona conviction on your record.  You may qualify to set aside your conviction and restore your civil rights. This legal process can help remove barriers to employment\, housing\, voting\, and more.  Now also accepting applications for Proposition 207 Marijuana Expungements. \n  \nCommunity Legal Services attorneys will first provide a presentation and then will offer one-on-one assistance.  Find out if you are income eligible for CLS services by calling 602-258-3434.  Or complete an application during the clinic. \nRegistration is NOT required.  Walk ins will be allowed based on attendance and room capacity.
URL:https://clsaz.org/event/set-aside-and-expungement-clinic-21/
LOCATION:Palo Verde Library\, 4402 North 51st Avenue\, Phoenix\, AZ\, 85031\, United States
CATEGORIES:Employment Law,Set Aside Clinics
END:VEVENT
END:VCALENDAR