BEGIN:VCALENDAR
VERSION:2.0
PRODID:-//CLSAZ - ECPv6.15.17//NONSGML v1.0//EN
CALSCALE:GREGORIAN
METHOD:PUBLISH
X-WR-CALNAME:CLSAZ
X-ORIGINAL-URL:https://clsaz.org
X-WR-CALDESC:Events for CLSAZ
REFRESH-INTERVAL;VALUE=DURATION:PT1H
X-Robots-Tag:noindex
X-PUBLISHED-TTL:PT1H
BEGIN:VTIMEZONE
TZID:America/Phoenix
BEGIN:STANDARD
TZOFFSETFROM:-0700
TZOFFSETTO:-0700
TZNAME:MST
DTSTART:20190101T000000
END:STANDARD
END:VTIMEZONE
BEGIN:VEVENT
DTSTART;TZID=America/Phoenix:20221019T160000
DTEND;TZID=America/Phoenix:20221019T180000
DTSTAMP:20260423T151036
CREATED:20220812T103246Z
LAST-MODIFIED:20220831T102009Z
UID:6806-1666195200-1666202400@clsaz.org
SUMMARY:Set Aside and Expungement Clinic
DESCRIPTION:Set Aside and Expungement Clinic\nWednesday  10/19/22 Harmon Library \nDescription: \nJoin this free in-person legal clinic if you have an Arizona conviction on your record.  You may qualify to set aside your conviction and restore your civil rights. This legal process can help remove barriers to employment\, housing\, voting\, and more.  Now also accepting applications for Proposition 207 Marijuana Expungements. \nPresented in partnership with Community Legal Services.  Attorneys will first provide a presentation and then will offer one-on-one assistance.  Find out if you are income eligible for CLS services by calling 602-258-3434.  Or complete an application during the clinic. \nRegistration is required. A limited number of people will be allowed in at the same time\, based on room capacity.  As a result\, there may be a short wait. First come\, first served. Walk ins will be allowed based on attendance and room capacity. \nRegistration\n  \n 
URL:https://clsaz.org/event/set-aside-and-expungement-clinic-2/
LOCATION:Harmon Library\, 1325 S. 5th Ave.\, Phoenix\, AZ\, 85007\, United States
CATEGORIES:Set Aside Clinics
END:VEVENT
BEGIN:VEVENT
DTSTART;TZID=America/Phoenix:20220914T160000
DTEND;TZID=America/Phoenix:20220914T180000
DTSTAMP:20260423T151036
CREATED:20220812T101259Z
LAST-MODIFIED:20220831T102049Z
UID:6798-1663171200-1663178400@clsaz.org
SUMMARY:Set Aside and Expungement Clinic
DESCRIPTION:Set Aside and Expungement Clinic\n Wednesday 9/14/22  Burton Barr Library \nDescription: \nJoin this free in-person legal clinic if you have an Arizona conviction on your record.  You may qualify to set aside your conviction and restore your civil rights. This legal process can help remove barriers to employment\, housing\, voting\, and more.  Now also accepting applications for Proposition 207 Marijuana Expungements. \nPresented in partnership with Community Legal Services.  Attorneys will first provide a presentation and then will offer one-on-one assistance.  Find out if you are income eligible for CLS services by calling 602-258-3434.  Or complete an application during the clinic. \nRegistration is required. A limited number of people will be allowed in at the same time\, based on room capacity.  As a result\, there may be a short wait. First come\, first served. Walk ins will be allowed based on attendance and room capacity. \nRegistration\n  \n 
URL:https://clsaz.org/event/set-aside-and-expungement-clinic/
LOCATION:Burton Barr Library\, 1221 N. Central Ave.\, Phoenix\, AZ\, 85004\, United States
CATEGORIES:Set Aside Clinics
END:VEVENT
BEGIN:VEVENT
DTSTART;TZID=America/Phoenix:20220209T160000
DTEND;TZID=America/Phoenix:20220209T180000
DTSTAMP:20260423T151036
CREATED:20220111T132448Z
LAST-MODIFIED:20220111T132448Z
UID:6398-1644422400-1644429600@clsaz.org
SUMMARY:Set Aside Clinic/Restoration/Prop 207 Event in Maricopa County - February
DESCRIPTION:Set Aside Clinic/Restoration/Prop 207 Event in Maricopa County – February 9\, 2022\nDownload all Set Aside Clinic/Restoration/Prop 207 Events in Maricopa County information in Spanish and English \nIf you have an Arizona conviction on your criminal record\, you may qualify to set aside your convictions and restore your civil rights. You may be able to remove barriers to: Employment\, Housing\, and Voting. \nBeginning July 2021: If your records contain certain marijuana offenses or marijuana related offenses\, you may qualify to petition the court for an order which will expunge their marijuana and marijuana related convictions. To be eligible for an expungement under Proposition 207\, you must have been arrested\, charged\, convicted\, or acquitted of an eligible marijuana related offense that occurred before November 30\, 2020. Come to a clinic to learn about which offenses might qualify! \nTo find out if you are eligible for direct representation\, please apply for services: \nCall: (602) 258-3434 (M-F 8am-2pm) or (800) 722-4026 \nOnline at: https://www.azlawhelp.org/accesstojustice or https://azexpunge.org/contact-us/\n*Make the following selections when prompted*\n• When asked in what area of law you are in need of assistance\, choose: “EMPLOYMENT”\n• When asked if it is a criminal problem\, choose: “NO”\n• When asked what type of employment problem\, choose: “WAGE” \n  \nUPCOMING CLINICS\nDownload all Set Aside Clinic/Restoration/Prop 207 Events in Maricopa County information in Spanish and English \n\nDATE: March 15\, 2022\nLOCATION: Burton Barr Library\,\n1221 N. Central Ave.\, Phoenix\, AZ 85004 \nDATE: April 19\, 2022\nTIME: 4:00pm–6:00pm\nLOCATION: Cesar Chavez Library\,\n3635 W. Baseline Rd.\, Laveen Village\, AZ 85339 \nDATE: May 12\, 2022\nTIME: 4:00pm–6:00pm\nLOCATION: Ocotillo Library\,\n102 W. Southern Ave.\, Phoenix\, AZ 85041 \nDATE: June 21\, 2022\nTIME: 4:00pm–6:00pm\nLOCATION: Burton Barr Library\,\n1221 N. Central Ave.\, Phoenix\, AZ 85004 \nDATE: July 14\, 2022\nTIME: 4-7pm\nLOCATION: Palo Verde Library\,\n4402 N. 51st Ave.\, Phoenix\, AZ 85031 \nDATE: August 17\, 2022\nTIME: 4:00pm–6:00pm\nLOCATION: Acacia Library\,\n750 E. Townly Ave.\, Phoenix\, AZ 85020 \n 
URL:https://clsaz.org/event/2022-set-aside-clinics/
LOCATION:Cholla Library\, 10050 N. Metro Pkwy E.\, Phoenix\, AZ\, 85051\, United States
CATEGORIES:Set Aside Clinics
END:VEVENT
BEGIN:VEVENT
DTSTART;TZID=America/Phoenix:20200324T090000
DTEND;TZID=America/Phoenix:20200324T120000
DTSTAMP:20260423T151036
CREATED:20200204T201018Z
LAST-MODIFIED:20200204T201113Z
UID:5178-1585040400-1585051200@clsaz.org
SUMMARY:3/24/2020: Set Aside Clinic
DESCRIPTION:4:00 pm – 7:00 pm – Set Aside Clinic\nHarmon Library: 1325 S. 5th Avenue\, Phoenix\, Arizona\, 85007
URL:https://clsaz.org/event/3-24-2020-set-aside-clinic/
LOCATION:Harmon Library\, 1325 S. 5th Ave.\, Phoenix\, AZ\, 85007\, United States
CATEGORIES:Set Aside Clinics
END:VEVENT
BEGIN:VEVENT
DTSTART;TZID=America/Phoenix:20200228T050000
DTEND;TZID=America/Phoenix:20200228T080000
DTSTAMP:20260423T151036
CREATED:20200204T185036Z
LAST-MODIFIED:20200204T195919Z
UID:5156-1582866000-1582876800@clsaz.org
SUMMARY:Set Aside Clinic
DESCRIPTION:12:00 pm – 3:00 pm – Set Aside Clinic\nMesaCAN:  635 E Broadway Rd\, Mesa\, AZ 85204
URL:https://clsaz.org/event/set-aside-clinic/
LOCATION:MesaCAN\, 635 E Broadway Rd.\, Mesa\, AZ\, 85204\, United States
CATEGORIES:Set Aside Clinics
END:VEVENT
BEGIN:VEVENT
DTSTART;TZID=America/Phoenix:20200226T060000
DTEND;TZID=America/Phoenix:20200226T090000
DTSTAMP:20260423T151036
CREATED:20200204T200323Z
LAST-MODIFIED:20200204T200323Z
UID:5175-1582696800-1582707600@clsaz.org
SUMMARY:2/26/2020: Set Aside Clinic
DESCRIPTION:1:00 pm – 4:00 pm – Set Aside Clinic\nBurton Barr Library: 1221 N. Central Avenue\, Phoenix\, Arizona\, 85004
URL:https://clsaz.org/event/2-26-2020-set-aside-clinic/
LOCATION:Burton Barr Library\, 1221 N. Central Ave.\, Phoenix\, AZ\, 85004\, United States
CATEGORIES:Set Aside Clinics
END:VEVENT
END:VCALENDAR